BEGIN:VCALENDAR
VERSION:2.0
PRODID:-//Environmental Ethics - ECPv6.15.20//NONSGML v1.0//EN
CALSCALE:GREGORIAN
METHOD:PUBLISH
X-WR-CALNAME:Environmental Ethics
X-ORIGINAL-URL:https://eebs.dk
X-WR-CALDESC:Events for Environmental Ethics
REFRESH-INTERVAL;VALUE=DURATION:PT1H
X-Robots-Tag:noindex
X-PUBLISHED-TTL:PT1H
BEGIN:VTIMEZONE
TZID:Europe/Copenhagen
BEGIN:DAYLIGHT
TZOFFSETFROM:+0100
TZOFFSETTO:+0200
TZNAME:CEST
DTSTART:20220327T010000
END:DAYLIGHT
BEGIN:STANDARD
TZOFFSETFROM:+0200
TZOFFSETTO:+0100
TZNAME:CET
DTSTART:20221030T010000
END:STANDARD
BEGIN:DAYLIGHT
TZOFFSETFROM:+0100
TZOFFSETTO:+0200
TZNAME:CEST
DTSTART:20230326T010000
END:DAYLIGHT
BEGIN:STANDARD
TZOFFSETFROM:+0200
TZOFFSETTO:+0100
TZNAME:CET
DTSTART:20231029T010000
END:STANDARD
BEGIN:DAYLIGHT
TZOFFSETFROM:+0100
TZOFFSETTO:+0200
TZNAME:CEST
DTSTART:20240331T010000
END:DAYLIGHT
BEGIN:STANDARD
TZOFFSETFROM:+0200
TZOFFSETTO:+0100
TZNAME:CET
DTSTART:20241027T010000
END:STANDARD
END:VTIMEZONE
BEGIN:VEVENT
DTSTART;TZID=Europe/Copenhagen:20230531T140000
DTEND;TZID=Europe/Copenhagen:20230531T153000
DTSTAMP:20260422T043831
CREATED:20230515T170821Z
LAST-MODIFIED:20251022T151455Z
UID:323-1685541600-1685547000@eebs.dk
SUMMARY:Platons dialog "Timaios"
DESCRIPTION:Oplæg af Henrik Klindt-Jensen\nph.d.\, fhv. ekstern lektor\nInstitut for Kultur og Samfund\,\nFilosofi & Idéhistorie \nAarhus Universitet \nPlatons ”Timaios” var den dialog\, som spillede den største rolle op igennem middelalder og renæssance. Dialogen skildrer med baggrund i pythagoræismen på flere måder.\, hvordan en skabergud med hjælpeguder skaber verden.  Først skabes kosmos som ordnet efter kredsbevægelser\, især manifesteret som himmellegemerne\, så skabes det ud fra at være opbygget af tredimensionelle figurer med geometriske flader\, ”polyedere”. Kosmos har en samlet tredelt sjæl hvis tredeling svarer til tredelingen af det enkelte menneskes sjæl – og denne tredeling genfindes også i idealstaten i dialogen ”Staten”. Dennes samtale fandt i øvrigt sted dagen før den\, vi finder i ”Timaios”. \nDen senantikke læge Galen kom i særdeleshed til at fastholde ”Timaios” i naturfilosofien med de fire elementer. Renæssancen fandt især menneskets forhold til verden som mikrokosmos overfor makrokosmos. \n  \nArrangør: EnvironmentalEthics https://www.eebs.dk \n 
URL:https://eebs.dk/index.php/https-eebs-dk-event-single-post-name/platons-dialog-timaios/
LOCATION:Dokk1\, Hack Kampmanns Plads 2\, Aarhus\, Aarhus\, 8000\, Denmark
CATEGORIES:2023
ATTACH;FMTTYPE=image/jpeg:https://eebs.dk/wp-content/uploads/2023/05/Platons-dialogTimaeus-31.05.23.jpg
END:VEVENT
END:VCALENDAR