BEGIN:VCALENDAR
VERSION:2.0
PRODID:-//Environmental Ethics - ECPv6.15.20//NONSGML v1.0//EN
CALSCALE:GREGORIAN
METHOD:PUBLISH
X-WR-CALNAME:Environmental Ethics
X-ORIGINAL-URL:https://eebs.dk
X-WR-CALDESC:Events for Environmental Ethics
REFRESH-INTERVAL;VALUE=DURATION:PT1H
X-Robots-Tag:noindex
X-PUBLISHED-TTL:PT1H
BEGIN:VTIMEZONE
TZID:Europe/Copenhagen
BEGIN:DAYLIGHT
TZOFFSETFROM:+0100
TZOFFSETTO:+0200
TZNAME:CEST
DTSTART:20230326T010000
END:DAYLIGHT
BEGIN:STANDARD
TZOFFSETFROM:+0200
TZOFFSETTO:+0100
TZNAME:CET
DTSTART:20231029T010000
END:STANDARD
BEGIN:DAYLIGHT
TZOFFSETFROM:+0100
TZOFFSETTO:+0200
TZNAME:CEST
DTSTART:20240331T010000
END:DAYLIGHT
BEGIN:STANDARD
TZOFFSETFROM:+0200
TZOFFSETTO:+0100
TZNAME:CET
DTSTART:20241027T010000
END:STANDARD
BEGIN:DAYLIGHT
TZOFFSETFROM:+0100
TZOFFSETTO:+0200
TZNAME:CEST
DTSTART:20250330T010000
END:DAYLIGHT
BEGIN:STANDARD
TZOFFSETFROM:+0200
TZOFFSETTO:+0100
TZNAME:CET
DTSTART:20251026T010000
END:STANDARD
END:VTIMEZONE
BEGIN:VEVENT
DTSTART;TZID=Europe/Copenhagen:20240209T133000
DTEND;TZID=Europe/Copenhagen:20240209T150000
DTSTAMP:20260421T161331
CREATED:20240110T161033Z
LAST-MODIFIED:20251022T151254Z
UID:392-1707485400-1707490800@eebs.dk
SUMMARY:Kierkegaard´s Forhold til Platon
DESCRIPTION:Oplæg af Henrik Klindt-Jensen\, ph.d. \nSøren Kjerkegaards forhold til Platon er komplekst\, og indebærer også forholdet til Sokrates hos Platon\, selvom han også skeler til Xenofons Sokrates skikkelse. \nKierkegaard ser ikke bare Sokrates som forudsætning for Kristus\, men også for sig selv som eksistensmeddeler. Han begynder sit forfatterskab med disputatsen ”Begrebet Ironi med stadigt Hensigt på Sokrates”. I forlængelse af Platon sætter han Sokrates´ ironi på skrift i en indirekte meddelelse – Platon bruger dialog-partnere\, Kierkegaard pseudonymer. Og denne meddelelse er et eksempel på dobbelt-bevægelsen – man skal huske sig selv i det at meddele. Hos Platon bevæger filosoffen sig fra tiden til evigheden og tilbage igen i hulebilledet – hos Kierkegaard sker en sådan dobbelt-bevægelse hele tiden. \n  \n 
URL:https://eebs.dk/index.php/https-eebs-dk-event-single-post-name/kierkegaards-forhold-til-platon/
LOCATION:Aarhus
CATEGORIES:2024
ATTACH;FMTTYPE=image/jpeg:https://eebs.dk/wp-content/uploads/2024/01/Kierkegaard.Platon.jpg
END:VEVENT
END:VCALENDAR