BEGIN:VCALENDAR
VERSION:2.0
PRODID:-//Environmental Ethics - ECPv6.15.20//NONSGML v1.0//EN
CALSCALE:GREGORIAN
METHOD:PUBLISH
X-ORIGINAL-URL:https://eebs.dk
X-WR-CALDESC:Events for Environmental Ethics
REFRESH-INTERVAL;VALUE=DURATION:PT1H
X-Robots-Tag:noindex
X-PUBLISHED-TTL:PT1H
BEGIN:VTIMEZONE
TZID:Europe/Copenhagen
BEGIN:DAYLIGHT
TZOFFSETFROM:+0100
TZOFFSETTO:+0200
TZNAME:CEST
DTSTART:20230326T010000
END:DAYLIGHT
BEGIN:STANDARD
TZOFFSETFROM:+0200
TZOFFSETTO:+0100
TZNAME:CET
DTSTART:20231029T010000
END:STANDARD
BEGIN:DAYLIGHT
TZOFFSETFROM:+0100
TZOFFSETTO:+0200
TZNAME:CEST
DTSTART:20240331T010000
END:DAYLIGHT
BEGIN:STANDARD
TZOFFSETFROM:+0200
TZOFFSETTO:+0100
TZNAME:CET
DTSTART:20241027T010000
END:STANDARD
BEGIN:DAYLIGHT
TZOFFSETFROM:+0100
TZOFFSETTO:+0200
TZNAME:CEST
DTSTART:20250330T010000
END:DAYLIGHT
BEGIN:STANDARD
TZOFFSETFROM:+0200
TZOFFSETTO:+0100
TZNAME:CET
DTSTART:20251026T010000
END:STANDARD
END:VTIMEZONE
BEGIN:VEVENT
DTSTART;TZID=Europe/Copenhagen:20240524T130000
DTEND;TZID=Europe/Copenhagen:20240524T140000
DTSTAMP:20260421T121214
CREATED:20240429T171926Z
LAST-MODIFIED:20251022T150817Z
UID:406-1716555600-1716559200@eebs.dk
SUMMARY:Augustins Treenighedslære
DESCRIPTION:Oplæg af Henrik Klindt-Jensen\nph.d.\, fhv. lektor Institut for Filosofi & Idéhistorie \nAugustin udviklede afgørende den kristne Treenighedslære med Enhed af Fader\, Søn og Helligånden og fandt\, at den var en højere oktav af menneskets tilværelse og erkendelse – ligesom også Hegel langt senere. \nHegel selv kommenterer desværre ikke selv direkte Augustin i sine filosofihistoriske forelæsninger\, hvor han kun bredt taler om kirkefædrene. \nAugustins beskæftigelse med Treenigheden var meget omfattende og kompleks. Foredraget vil især behandle den filosofiske side\, som har klangbund i nyplatonismen og som foregriber Hegel. \n 
URL:https://eebs.dk/index.php/https-eebs-dk-event-single-post-name/augustins-treenighedslaere/
LOCATION:Dokk1\, Hack Kampmanns Plads 2\, Aarhus\, Aarhus\, 8000\, Denmark
CATEGORIES:2024
ATTACH;FMTTYPE=image/jpeg:https://eebs.dk/wp-content/uploads/2024/04/Augustins-Treenighedslaere.jpg
END:VEVENT
END:VCALENDAR